BEGIN:VCALENDAR
VERSION:2.0
PRODID:-//Bienessence
CALSCALE:GREGORIAN
METHOD:PUBLISH
X-WR-CALNAME:Bienessence
X-ORIGINAL-URL:https://bienessence.fr/shop/atelier/qi-gong/renforcer-lenergie-des-poumons-pour-un-automne-en-bonne-sante/
X-WR-CALDESC:Renforcer l&#8217;énergie des poumons pour un automne en bonne santé
BEGIN:VEVENT
DTSTART;TZID=Europe/Paris:20201016T180000
DTEND;TZID=Europe/Paris:20201016T203000
SUMMARY:Renforcer l&#8217;énergie des poumons pour un automne en bonne santé
DESCRIPTION:L’automne est le moment de la décroissance du Yang, de la montée du Yin dans la nature, il est donc un mouvement de l’externe vers l’interne, un mouvement d’intériorisation. En médecine Chinoise, il est lié au Poumon et au gros intestin. Dans cet atelier, nous mettrons l’accent sur la <strong>respiration </strong>et nous étudierons des exercices spécifiques en lien avec le travail énergétique du Poumon  pour libérer les stagnations de Qi, renforcer le système immunitaire et se préparer pour un hiver en bonne santé.

&nbsp;

Possibilité de Forfait :

Forfait 5 ateliers : 175€

Forfait 10 ateliers : 300€
URL:https://bienessence.fr/shop/atelier/qi-gong/renforcer-lenergie-des-poumons-pour-un-automne-en-bonne-sante/
LOCATION:
END:VEVENT
END:VCALENDAR
