BEGIN:VCALENDAR
VERSION:2.0
PRODID:-//Bienessence
CALSCALE:GREGORIAN
METHOD:PUBLISH
X-WR-CALNAME:Bienessence
X-ORIGINAL-URL:https://bienessence.fr/shop/atelier/qi-gong/augmenter-son-potentiel-energetique-avec-les-18-mouvements-du-tai-chi-qi-gong/
X-WR-CALDESC:Atelier Tai Chi (en ligne) : Augmenter son potentiel énergétique avec les 18 mouvements du Tai Chi / Qi Gong
BEGIN:VEVENT
DTSTART;TZID=Europe/Paris:20201211T180000
DTEND;TZID=Europe/Paris:20201211T200000
SUMMARY:Atelier Tai Chi (en ligne) : Augmenter son potentiel énergétique avec les 18 mouvements du Tai Chi / Qi Gong
DESCRIPTION:Les mouvements lents et fluides du Qi Gong permettent de guider l’énergie, en conscience, dans tout le corps. Des exercices spécifiques dans l’écoute profonde des sensations nous permettront d’améliorer la circulation du Qi et de lever les éventuels blocages énergétiques dans le corps.
<div id="resa"></div>
URL:https://bienessence.fr/shop/atelier/qi-gong/augmenter-son-potentiel-energetique-avec-les-18-mouvements-du-tai-chi-qi-gong/
LOCATION:
END:VEVENT
END:VCALENDAR
