BEGIN:VCALENDAR
VERSION:2.0
PRODID:-//Bienessence
CALSCALE:GREGORIAN
METHOD:PUBLISH
X-WR-CALNAME:Bienessence
X-ORIGINAL-URL:https://bienessence.fr/shop/atelier/gestion-du-stress-et-sommeil/
X-WR-CALDESC:Naturopathie &#8211; Gestion du stress et sommeil
BEGIN:VEVENT
DTSTART;TZID=Europe/Paris:20260417T173000
DTEND;TZID=Europe/Paris:20260417T190000
SUMMARY:Naturopathie &#8211; Gestion du stress et sommeil
DESCRIPTION:Le stress chronique et les troubles du sommeil impactent profondément notre équilibre physique, émotionnel et mental.<br data-start="281" data-end="284" />Lors de cet atelier, je vous propose de mieux comprendre les mécanismes du stress et du sommeil, et surtout d’explorer des outils naturels, simples et concrets pour retrouver plus de calme intérieur et des nuits réparatrices.
URL:https://bienessence.fr/shop/atelier/gestion-du-stress-et-sommeil/
LOCATION:
END:VEVENT
END:VCALENDAR
