BEGIN:VCALENDAR
VERSION:2.0
PRODID:-//Bienessence
CALSCALE:GREGORIAN
METHOD:PUBLISH
X-WR-CALNAME:Bienessence
X-ORIGINAL-URL:https://bienessence.fr/shop/atelier/atelier-de-pilates/
X-WR-CALDESC:Atelier de Pilates
BEGIN:VEVENT
DTSTART;TZID=Europe/Paris:20260201T100000
DTEND;TZID=Europe/Paris:20260201T120000
SUMMARY:Atelier de Pilates
DESCRIPTION:Au programme :
<ul>
 	<li>Renforcement des jambes</li>
 	<li>Gainage et stabilité</li>
 	<li>Travail de l'équilibre et de la coordination</li>
</ul>
URL:https://bienessence.fr/shop/atelier/atelier-de-pilates/
LOCATION:
END:VEVENT
END:VCALENDAR
