BEGIN:VCALENDAR
VERSION:2.0
PRODID:-//Bienessence
CALSCALE:GREGORIAN
METHOD:PUBLISH
X-WR-CALNAME:Bienessence
X-ORIGINAL-URL:https://bienessence.fr/shop/atelier/mieux-respirer-mieux-vivre/
X-WR-CALDESC:Ma pause bien-être : Mieux respirer, mieux vivre&#8230;
BEGIN:VEVENT
DTSTART;TZID=Europe/Paris:20250927T163000
DTEND;TZID=Europe/Paris:20250927T180000
SUMMARY:Ma pause bien-être : Mieux respirer, mieux vivre&#8230;
DESCRIPTION:<div dir="ltr">Il y a la respiration qui se passe sans que l'on y pense. Et il y a la respiration consciente.
Mieux respirer, c'est déjà prendre conscience que l'on respire
Mieux respirer, c'est savoir se libérer de certaines tensions physiques, émotionnelles ou mentales (véritables polluants pour notre organisme)
Mieux respirer, c'est avoir une respiration qui s'adapte à la vie que vous menez.
Mieux respirer, c'est mieux vivre.
Et cela s'entraîne, bien évidemment...</div>
URL:https://bienessence.fr/shop/atelier/mieux-respirer-mieux-vivre/
LOCATION:
END:VEVENT
END:VCALENDAR
