BEGIN:VCALENDAR
VERSION:2.0
PRODID:-//Bienessence
CALSCALE:GREGORIAN
METHOD:PUBLISH
X-WR-CALNAME:Bienessence
X-ORIGINAL-URL:https://bienessence.fr/shop/atelier/sweet-ball-2/
X-WR-CALDESC:Atelier Mouvement Santé : Sweet Ball : entre rebonds et rondeurs
BEGIN:VEVENT
DTSTART;TZID=Europe/Paris:20251123T100000
DTEND;TZID=Europe/Paris:20251123T120000
SUMMARY:Atelier Mouvement Santé : Sweet Ball : entre rebonds et rondeurs
DESCRIPTION:Il est possible de travailler avec beaucoup de douceur sur le fameux ballon Pilates : s’inspirer de la courbe et du rebond pour chercher des mouvements organiques et organisés.

Equilibres et déséquilibres sont de la partie. Le ballon devient un allié pour faciliter la respiration, se déployer en sécurité, se poser dans une force tranquille.
Ne soyez pas intimidé-e-s, venez essayer...Même si vous n’en avez jamais fait.
URL:https://bienessence.fr/shop/atelier/sweet-ball-2/
LOCATION:
END:VEVENT
END:VCALENDAR
