BEGIN:VCALENDAR
VERSION:2.0
PRODID:-//Bienessence
CALSCALE:GREGORIAN
METHOD:PUBLISH
X-WR-CALNAME:Bienessence
X-ORIGINAL-URL:https://bienessence.fr/shop/atelier/qi-gong/qi-gong-de-la-grande-fluidite-2/
X-WR-CALDESC:Atelier de Qi Gong &#8211; Qi Gong de la grande fluidité (3 ème partie &#8211; La rivière s’anime) 2
BEGIN:VEVENT
DTSTART;TZID=Europe/Paris:20250919T173000
DTEND;TZID=Europe/Paris:20250919T193000
SUMMARY:Atelier de Qi Gong &#8211; Qi Gong de la grande fluidité (3 ème partie &#8211; La rivière s’anime) 2
DESCRIPTION:<p style="font-weight: 400;">Cette série de 12 mouvements explore le mouvement spiralé, asymétrique, avec des déplacements frontaux. Les spirales de bras et de jambes activent l’énergie, les tensions se défont doucement, le corps se délie pour entrer dans la fluidité.</p>
Tarif en ligne + replay 15 jours : 30€

Tarif présentiel : 30€
URL:https://bienessence.fr/shop/atelier/qi-gong/qi-gong-de-la-grande-fluidite-2/
LOCATION:
END:VEVENT
END:VCALENDAR
