BEGIN:VCALENDAR
VERSION:2.0
PRODID:-//Bienessence
CALSCALE:GREGORIAN
METHOD:PUBLISH
X-WR-CALNAME:Bienessence
X-ORIGINAL-URL:https://bienessence.fr/shop/atelier/qi-gong/comment-booster-son-systeme-immunitaire-avec-le-qi-gong/
X-WR-CALDESC:Atelier de Qi Gong &#8211; Comment booster son système immunitaire avec le Qi Gong
BEGIN:VEVENT
DTSTART;TZID=Europe/Paris:20260109T173000
DTEND;TZID=Europe/Paris:20260109T193000
SUMMARY:Atelier de Qi Gong &#8211; Comment booster son système immunitaire avec le Qi Gong
DESCRIPTION:<p style="font-weight: 400;">Au cœur de l’hiver certains exercices de Qi Gong peuvent vous aider à renforcer les défenses de l’organisme en stimulant le Wei Qi (énergie défensive).</p>
Tarif en ligne + replay 15 jours : 30€

Tarif présentiel : 30€
URL:https://bienessence.fr/shop/atelier/qi-gong/comment-booster-son-systeme-immunitaire-avec-le-qi-gong/
LOCATION:
END:VEVENT
END:VCALENDAR
