BEGIN:VCALENDAR
VERSION:2.0
PRODID:-//Bienessence
CALSCALE:GREGORIAN
METHOD:PUBLISH
X-WR-CALNAME:Bienessence
X-ORIGINAL-URL:https://bienessence.fr/shop/atelier/qi-gong/qi-gong-des-5-organes/
X-WR-CALDESC:Atelier de Qi Gong &#8211; Qi Gong des 5 organes
BEGIN:VEVENT
DTSTART;TZID=Europe/Paris:20260410T173000
DTEND;TZID=Europe/Paris:20260410T193000
SUMMARY:Atelier de Qi Gong &#8211; Qi Gong des 5 organes
DESCRIPTION:<p style="font-weight: 400;">Explorer la vibration de sons spécifiques pour renforcer la santé et stimuler l’énergie des organes</p>
Tarif en ligne + replay 15 jours : 30€

Tarif présentiel : 30€
URL:https://bienessence.fr/shop/atelier/qi-gong/qi-gong-des-5-organes/
LOCATION:
END:VEVENT
END:VCALENDAR
