BEGIN:VCALENDAR
VERSION:2.0
PRODID:-//Bienessence
CALSCALE:GREGORIAN
METHOD:PUBLISH
X-WR-CALNAME:Bienessence
X-ORIGINAL-URL:https://bienessence.fr/shop/atelier/pour-un-dos-en-bonne-sante/
X-WR-CALDESC:Ma pause bien être : Pour un dos en bonne santé
BEGIN:VEVENT
DTSTART;TZID=Europe/Paris:20260117T163000
DTEND;TZID=Europe/Paris:20260117T180000
SUMMARY:Ma pause bien être : Pour un dos en bonne santé
DESCRIPTION:<p style="font-weight: 400;">Un vieux proverbe chinois dit que l’âge d’une personne se détermine en fonction de la souplesse de sa colonne vertébrale. Comment ressentez vous la votre ?
Mobilité articulaires et détente des « cuirasses musculaires » donne la possibilité de fléchir, de serpenter, d’onduler, pour être à même de mieux se réaligner.
Le dos devient plus souple et solide avec la conscience de l’axe.</p>
URL:https://bienessence.fr/shop/atelier/pour-un-dos-en-bonne-sante/
LOCATION:
END:VEVENT
END:VCALENDAR
