BEGIN:VCALENDAR
VERSION:2.0
PRODID:-//Bienessence
CALSCALE:GREGORIAN
METHOD:PUBLISH
X-WR-CALNAME:Bienessence
X-ORIGINAL-URL:https://bienessence.fr/shop/atelier/equilibre-et-coordination/
X-WR-CALDESC:Atelier mouvements santé : Equilibre &#038; coordination
BEGIN:VEVENT
DTSTART;TZID=Europe/Paris:20260419T100000
DTEND;TZID=Europe/Paris:20260419T120000
SUMMARY:Atelier mouvements santé : Equilibre &#038; coordination
DESCRIPTION:<p style="font-weight: 400;">L’Equilibre se développe ... grâce au déséquilibre !
Plus vous vous amusez à varier vos appuis, vos repères, vos vitesses, la direction de votre regard ou de votre tête, plus vous allez développer une faculté à rester stable.
La coordination, elle, facilite la réalisation de mouvements ordonnés et dirigés et améliore les reflexes.
Tout ceci améliore la posture, l’équilibre global et permet de bouger en harmonie avec plus de précision. Et vos connexion neuronales sont améliorées.
Debout, allongé, en 4 appuis, sur une jambe, avec du matériel pour faciliter ou complexifier ... venez explorer vos potentiels et vous amuser</p>
URL:https://bienessence.fr/shop/atelier/equilibre-et-coordination/
LOCATION:
END:VEVENT
END:VCALENDAR
