BEGIN:VCALENDAR
VERSION:2.0
PRODID:-//Bienessence
CALSCALE:GREGORIAN
METHOD:PUBLISH
X-WR-CALNAME:Bienessence
X-ORIGINAL-URL:https://bienessence.fr/shop/atelier/mieux-gerer-son-stress-et-gagner-en-confiance/
X-WR-CALDESC:Ma pause bien être : Mieux gérer son stress et gagner en confiance
BEGIN:VEVENT
DTSTART;TZID=Europe/Paris:20260620T163000
DTEND;TZID=Europe/Paris:20260620T180000
SUMMARY:Ma pause bien être : Mieux gérer son stress et gagner en confiance
DESCRIPTION:Définir, reconnaitre, accepter la présence d’un stress n’est pas toujours évident.. ; on peut avoir tendance à y être habitué-e-s, ou vouloir s’y habituer. Le stress fait partie intégrante de la vie
mais à haute dose, il est extrêmement dommageable pour le corps comme pour les fonctions cognitives et ne permet pas d’avoir une bonne confiance en soi.
Il est alors nécessaire d’installer des petites routines, simples et très efficaces pour prendre le problème à bras le corps.
URL:https://bienessence.fr/shop/atelier/mieux-gerer-son-stress-et-gagner-en-confiance/
LOCATION:
END:VEVENT
END:VCALENDAR
