BEGIN:VCALENDAR
VERSION:2.0
PRODID:-//Bienessence
CALSCALE:GREGORIAN
METHOD:PUBLISH
X-WR-CALNAME:Bienessence
X-ORIGINAL-URL:https://bienessence.fr/shop/atelier/yoga/yoga-de-la-femme-1/
X-WR-CALDESC:Atelier de yoga &#8211; Yoga de la Femme &#8211; Oser son intuition
BEGIN:VEVENT
DTSTART;TZID=Europe/Paris:20251129T160000
DTEND;TZID=Europe/Paris:20251129T180000
SUMMARY:Atelier de yoga &#8211; Yoga de la Femme &#8211; Oser son intuition
DESCRIPTION:<div><i>Le Yoga de la Femme est une méthode basée sur une combinaison de différentes pratiques : Yoga des hormones, Yin Yoga, Hatha yoga, ainsi que des techniques de relaxation et de respiration. C’est une approche  simple et accessible qui aide les femmes à équilibrer leur système hormonal, à diminuer leur stress, à se rebooster et à se reconnecter avec leur femme intérieure. </i></div>
<div></div>
<div><i> Lorsque le chemin à suivre n’est plus clair, que vous vous sentez déconnectée et étrangère à ce qui vous entoure, plongez dans l’écoute de votre corps, la voie de votre coeur et détachez-vous du flux des pensées  pour une énergie calme et intuitive.</i></div>
URL:https://bienessence.fr/shop/atelier/yoga/yoga-de-la-femme-1/
LOCATION:
END:VEVENT
END:VCALENDAR
